BEGIN:VCALENDAR
VERSION:2.0
PRODID:-//Upasana Society NGO - ECPv6.15.17//NONSGML v1.0//EN
CALSCALE:GREGORIAN
METHOD:PUBLISH
X-ORIGINAL-URL:https://upasanasociety.org
X-WR-CALDESC:Events for Upasana Society NGO
REFRESH-INTERVAL;VALUE=DURATION:PT1H
X-Robots-Tag:noindex
X-PUBLISHED-TTL:PT1H
BEGIN:VTIMEZONE
TZID:UTC
BEGIN:STANDARD
TZOFFSETFROM:+0000
TZOFFSETTO:+0000
TZNAME:UTC
DTSTART:20170101T000000
END:STANDARD
END:VTIMEZONE
BEGIN:VEVENT
DTSTART;VALUE=DATE:20180606
DTEND;VALUE=DATE:20180622
DTSTAMP:20260425T141045
CREATED:20230907T075955Z
LAST-MODIFIED:20230907T080224Z
UID:20143-1528243200-1529625599@upasanasociety.org
SUMMARY:Wheels for Education Campaign: Paving the Path to Brighter Futures
DESCRIPTION:Event Date: June 6\, 2018 \nLocation: Chembur\, Mumbai \nOverview: \nUpasana Society NGO is gearing up for a remarkable event that promises to be a turning point in the lives of underprivileged tribal children in Dahanu\, Mumbai. On June 6\, 2018\, we’re embarking on the “Wheels for Education” Campaign\, an initiative that embodies the spirit of giving\, recycling\, and empowering communities. \nCollecting Cycles for a Cause: \nOur mission is clear—to collect close to 100 used bicycles from the generous members of societies in Chembur\, Mumbai. These bicycles\, often tucked away and forgotten\, are destined to become instruments of change. They will undergo repairs and restoration to be transformed into lifelines for tribal kids in Dahanu. \nWhy Does it Matter? \nIn Dahanu\, young students walk an astounding 5 kilometers one way to reach their school. These bicycles will not only reduce their commute but also provide them with the means to access education more easily. Education is a powerful tool for breaking the cycle of poverty and opening doors to a brighter future. Each cycle we collect brings us one step closer to that future. \nThe Power of Community: \nThis initiative is a beautiful example of community-driven change. Members of the Chembur societies have not only come forward to donate their bicycles but have also raised funds for the repairs and spare parts needed to restore these cycles. Their collaborative spirit is inspiring and reflects the potential for positive change when communities unite for a common cause. \nHow Can You Contribute? \nWe invite you to be a part of this transformative event. Volunteers play a crucial role in our mission. You can: \n\nHelp tag the bicycles for identification.\nCapture the essence of the event through photography.\nShare your experiences and insights through blogs and social media.\nAssist in arranging crowdfunding efforts to raise funds for repairs\, transport\, and other miscellaneous expenses.\nJoin us on the ground to make this event a resounding success.\n\nAcknowledgments: \nUpasana Society NGO extends heartfelt gratitude to all the dedicated volunteers who are the driving force behind this campaign. Your efforts and contributions are invaluable in making this initiative a reality. Together\, we’re changing lives\, one cycle at a time. Special thanks to Mr. Saurabh Kashalkar & Ms. Dipti Kashalkar \nJoin us on June 6\, 2018\, as we take a significant step towards empowering tribal children with the gift of education. Together\, we’re paving the path to brighter futures and creating a world where every child has the opportunity to dream and achieve. \nFor more information or inquiries\, please contact us at upasanango@gmail.com or visit our website CLICK HERE
URL:https://upasanasociety.org/event/wheels-for-education-campaign-paving-the-path-to-brighter-futures/
LOCATION:Chembur
CATEGORIES:Wheels for Education
ATTACH;FMTTYPE=image/jpeg:https://upasanasociety.org/wp-content/uploads/2023/09/Wheels-for-Education-happiness-3.jpeg
ORGANIZER;CN="Upasana Society NGO":MAILTO:upasanango@gmail.com
END:VEVENT
END:VCALENDAR