BEGIN:VCALENDAR
VERSION:2.0
PRODID:-//Upasana Society NGO - ECPv6.15.17//NONSGML v1.0//EN
CALSCALE:GREGORIAN
METHOD:PUBLISH
X-WR-CALNAME:Upasana Society NGO
X-ORIGINAL-URL:https://upasanasociety.org
X-WR-CALDESC:Events for Upasana Society NGO
REFRESH-INTERVAL;VALUE=DURATION:PT1H
X-Robots-Tag:noindex
X-PUBLISHED-TTL:PT1H
BEGIN:VTIMEZONE
TZID:UTC
BEGIN:STANDARD
TZOFFSETFROM:+0000
TZOFFSETTO:+0000
TZNAME:UTC
DTSTART:20170101T000000
END:STANDARD
END:VTIMEZONE
BEGIN:VEVENT
DTSTART;VALUE=DATE:20230910
DTEND;VALUE=DATE:20231019
DTSTAMP:20260423T164019
CREATED:20230905T045438Z
LAST-MODIFIED:20231011T102116Z
UID:19570-1694304000-1697673599@upasanasociety.org
SUMMARY:Sui Dhaga Aur Kapda Campaign 2023 - Lord Ganpati Festival
DESCRIPTION:Event: Sui Dhaga Aur Kapda Campaign 2023 – Lord Ganpati Festival \nDate: September 10th\, 2023 – November 18th\, 2023 \nLocation (Collection points): Mumbai and surrounding areas \nDonation (Distribution locations): Mumbai & nearby areas \nHosted by: Upasana Society NGO \nDescription: \nJoin us this Lord Ganpati Festival in a heartwarming initiative by Upasana Society NGO\, as we embark on the Sui Dhaga Aur Kapda Campaign 2023. Our goal is to donate 5000+ kgs of clothes and empower individuals from various underprivileged backgrounds in Mumbai and its vicinity.  \nAbout the Campaign: \nThe Sui Dhaga Aur Kapda Campaign is an ongoing effort to make a positive impact in the lives of those less fortunate. We invite residents of Mumbai to participate in this noble cause by donating used clothes that are washed\, ironed\, and thoughtfully segregated. This initiative aims to uplift the marginalized communities in and around Mumbai by providing them with essential clothing items. \nHow to Contribute: \nTo streamline our collection process and save on logistical costs\, we will be collecting clothes exclusively from societies in Borivali\, Dahisar\, and Kandivali. Here’s how you can participate: \n\nInform Your Society: A few dedicated individuals from each society can take charge of spreading the word about the campaign. Use your society’s WhatsApp groups or word of mouth to inform fellow members about the initiative.\nCollect Clothes: Residents can then come together to gather used clothes that meet our criteria – clean\, ironed\, and well-segregated. This can be done in your society’s office or a designated common storage area.\nUpdate Us: The volunteers from your society can keep us informed about the progress of the collection. Once a substantial amount of clothes and funds for sewing machines are collected\, we’ll arrange for transportation to ensure the items reach those in need.\nDonation:To make a monetary contribution\, kindly transfer your donation to the NGO’s bank account. For the bank account details\, please send a WhatsApp message to Mr. Saurabh Kashalkar at +91 9967292035.\n\nCampaign Details: \nFor more details about the Sui Dhaga Aur Kapda Campaign\, please visit our official website: CLICK HERE \nContact Information: \nFor further information or inquiries\, feel free to get in touch with Mr. Saurabh Kashalkar at +91 9967292035. \nYour generous contribution and support can make a significant difference in the lives of underprivileged individuals in our community. Let’s come together during this auspicious festival to spread joy and empower those in need. Lord Ganpati’s blessings will surely be with us as we work towards a more compassionate and caring society. \nJoin us in this noble cause\, and together\, we can make a meaningful impact in 2023! \n\n			\n				\n			\n				\n				Sui Dhaga Aur Kapda Campaign- Cloth collection banner\n				\n			\n				\n			\n				\n				Sui Dhaga Aur Kapda- Cloth donation\n				\n			\n				\n			\n				\n				Sui Dhaga Aur Kapda donation items\n				\n			\n				\n			\n				\n				Sui Dhaga Aur Kapda- Sewing machine donation
URL:https://upasanasociety.org/event/sui-dhaga-aur-kapda-campaign-2023-lord-ganpati-festival/
LOCATION:Socities in Borivali\, Kandivali & Dahisar
CATEGORIES:Sui Dhaga Aur Kapda
ATTACH;FMTTYPE=image/png:https://upasanasociety.org/wp-content/uploads/2023/10/suidhaga-event-banner.png
ORGANIZER;CN="Upasana Society NGO":MAILTO:upasanango@gmail.com
END:VEVENT
BEGIN:VEVENT
DTSTART;VALUE=DATE:20201101
DTEND;VALUE=DATE:20201102
DTSTAMP:20260423T164019
CREATED:20230904T195322Z
LAST-MODIFIED:20230904T202037Z
UID:19562-1604188800-1604275199@upasanasociety.org
SUMMARY:Event Announcement: "Sui Dhaga Aur Kapda Campaign" by Upasana Society NGO
DESCRIPTION:Join us on November 1\, 2020\, for a heartwarming event organized by Upasana Society NGO\, as we embark on a mission to bring warmth and joy to the tribal community of Dahanu village. Under the benevolent banner of the “Sui Dhaga Aur Kapda Campaign\,” we are set to donate an astonishing 2500+ kilograms of clothing collected from compassionate residents of Mulund\, Andheri\, Kandivali\, Goregaon\, and Borivali. \nDate: November 1\, 2020 \nEvent Highlights: \n\nLocation: Dahanu Village\nDonation Goal: 2500+ kgs of clothes\n\nWhy Join Us: \nThe “Sui Dhaga Aur Kapda Campaign” is not just an event; it’s a collective effort to make a meaningful impact in the lives of the underprivileged tribals of Dahanu village. By contributing to this noble cause\, you can play a vital role in keeping them warm during the approaching winter and spreading smiles to those in need. \nHow Can You Participate: \n\nDonate Clothes: If you reside in Mulund\, Andheri\, Kandivali\, Goregaon\, or Borivali\, we encourage you to drop off your gently used clothing donations at the designated collection points in your locality. Let your old clothes bring warmth to someone else’s life.\nVolunteer: We welcome volunteers to join us on November 1st in Dahanu Village. Your helping hands and kind hearts will make a difference.\nSpread the Word: Share our event with friends\, family\, and colleagues. Encourage them to participate or donate towards this noble cause.\n\nTogether\, Let’s Make a Difference: \nUpasana Society NGO is committed to making this event a success\, but we can’t do it without your support. Join us on November 1\, 2020\, as we come together to create a warmer\, brighter future for the tribals of Dahanu Village. \nMark your calendars and stay tuned for more details on this life-changing event. Let’s be the change we wish to see in the world. \nFor inquiries and further information\, please contact us at Mr. Saurabh Kashalkar- +91 9769727057 or Ms. Dipti Kashalkar- +91 7045127770 \nNote: The event details provided are based on the information available as of my knowledge cutoff date in September 2021. Please verify the event’s status and details closer to the date for any potential updates or changes. \nDiscover more about the “Sui Dhaga Aur Kapda” Campaign by clicking on the link below. \nExplore the Sui Dhaga Aur Kapda Campaign
URL:https://upasanasociety.org/event/event-announcement-sui-dhaga-aur-kapda-campaign-by-upasana-society-ngo/
LOCATION:Dahanu\, MAHARASHTRA\, India
CATEGORIES:Sui Dhaga Aur Kapda
ATTACH;FMTTYPE=image/png:https://upasanasociety.org/wp-content/uploads/2023/09/Sui-Dhaga-Aur-Kapda-donation-items.png
ORGANIZER;CN="Upasana Society NGO":MAILTO:upasanango@gmail.com
END:VEVENT
BEGIN:VEVENT
DTSTART;VALUE=DATE:20201004
DTEND;VALUE=DATE:20201005
DTSTAMP:20260423T164019
CREATED:20230904T201545Z
LAST-MODIFIED:20230904T201545Z
UID:19567-1601769600-1601855999@upasanasociety.org
SUMMARY:Clothing Donation Drive for the Tribals of Shahapur Village\, Maharashtra
DESCRIPTION:Date: October 4\, 2020 \nHosted by: Upasana Society NGO \nLocation: Shahapur Village\, Maharashtra \nJoin us for a heartwarming event on October 4\, 2020\, as Upasana Society NGO takes a significant step toward making a difference in the lives of the tribal community in Shahapur Village\, Maharashtra. Under the banner of our “Sui Dhaga Aur Kapda Campaign\,” we are set to donate an astonishing 3000+ kilograms of clothing collected from generous societies across Mumbai\, including Prabhadevi\, Goregaon\, Kandivali\, Borivali\, and Dahisar. \nEvent Highlights: \n\nMassive Clothing Donation: We are proud to announce that we have gathered over 3000 kilograms of gently used clothing items\, ready to be distributed to those in need.\nA Day of Giving: Join us on this special day to witness the impact of collective generosity as we distribute clothing to the tribal community in Shahapur Village.\nCommunity Engagement: This event will not only involve clothing distribution but also interactions with the tribal community\, helping us build stronger bonds and understand their needs better.\nVolunteer Opportunities: We welcome volunteers who wish to contribute their time and energy towards this noble cause. Your support can make a significant difference.\nSpread the Word: We encourage everyone to spread the word about this event to ensure the maximum reach and participation.\n\nEvent Details: \n\nDate: October 4\, 2020\nLocation: Shahapur Village\, Maharashtra\nContact: For volunteer opportunities or more information\, please contact Mr. Saurabh Kashalkar- +91 9769727057 or Ms. Dipti Kashalkar- +91 7045127770\n\nHow You Can Help: \n\nDonate: If you would like to contribute clothing items to our campaign\, please drop them off at one of our collection centers in Prabhadevi\, Goregaon\, Kandivali\, Borivali\, or Dahisar. Your donations can make a huge impact on someone’s life.\nVolunteer: Join us on the day of the event to assist in distributing clothing and engaging with the community. Your presence can bring smiles and warmth to the tribal families.\nSpread the Word: Share this event with your friends\, family\, and social networks. Together\, we can make this initiative a resounding success.\n\nLet’s come together as a community and make a significant difference in the lives of the tribal community in Shahapur Village\, Maharashtra. Your support means the world to us\, and we look forward to seeing you on October 4\, 2020\, for this remarkable event. Together\, we can create positive change and bring warmth and hope to those who need it most. \nDiscover more about the “Sui Dhaga Aur Kapda” Campaign by clicking on the link below. \nExplore the Sui Dhaga Aur Kapda Campaign
URL:https://upasanasociety.org/event/clothing-donation-drive-for-the-tribals-of-shahapur-village-maharashtra/
LOCATION:Shahapur
CATEGORIES:Sui Dhaga Aur Kapda
ATTACH;FMTTYPE=image/png:https://upasanasociety.org/wp-content/uploads/2023/09/Sui-Dhaga-Aur-Kapda-Collection-Drive-3.png
ORGANIZER;CN="Upasana Society NGO":MAILTO:upasanango@gmail.com
END:VEVENT
BEGIN:VEVENT
DTSTART;VALUE=DATE:20190723
DTEND;VALUE=DATE:20190724
DTSTAMP:20260423T164019
CREATED:20230904T200306Z
LAST-MODIFIED:20230904T201926Z
UID:19564-1563840000-1563926399@upasanasociety.org
SUMMARY:Sui Dhaga Aur Kapda Campaign: A Gift of Warmth to Aarey Tribals
DESCRIPTION:Event Date: July 23\, 2019 \nHosted By: Upasana Society NGO \nEvent Description: \nJoin us on July 23\, 2019\, for a heartwarming event hosted by Upasana Society NGO as we embark on a mission to bring warmth and smiles to the tribal communities of Aarey Colony\, Goregaon\, Mumbai. Under our “Sui Dhaga Aur Kapda Campaign\,” we aim to make a significant impact by donating over 700 kilograms of clothing and collecting used toys. \nEvent Highlights: \n\nDate & Time: July 23\, 2019\nLocation: Aarey Colony\, Goregaon\, Mumbai\n\nOur Mission: \nAt Upasana Society NGO\, our mission is to foster community solidarity and extend a helping hand to those in need. The Aarey tribal communities are an integral part of our city\, and we believe in creating positive change by supporting their well-being. \nHow You Can Contribute: \n\nClothing Donation: We invite you to contribute to our campaign by donating gently used clothing. Every piece of clothing can make a difference in keeping someone warm during the cold seasons.\nToy Collection: In addition to clothing\, we are also collecting used toys to bring smiles to the faces of the children in the Aarey Colony.\n\nDrop-Off Locations: \nWe have partnered with various societies in Andheri\, Prabhadevi\, and Matunga to facilitate convenient drop-off points for your donations. Look for our collection bins at these locations and make your contribution today. \nSpread the Word: \nHelp us reach our goal by spreading the word about this event within your community and on social media. Together\, we can make a significant impact on the lives of the Aarey tribal community. \nJoin us on July 23\, 2019\, and be a part of this heartwarming initiative. Let’s come together to make a positive change and provide much-needed warmth and joy to those who need it most. Your support can make a world of difference. \nDiscover more about the “Sui Dhaga Aur Kapda” Campaign by clicking on the link below. \nExplore the Sui Dhaga Aur Kapda Campaign
URL:https://upasanasociety.org/event/sui-dhaga-aur-kapda-campaign-a-gift-of-warmth-to-aarey-tribals/
LOCATION:Aarey Colony
CATEGORIES:Sui Dhaga Aur Kapda
ATTACH;FMTTYPE=image/png:https://upasanasociety.org/wp-content/uploads/2023/09/Sui-Dhaga-Aur-Kapda-Sewing-machine-donation.png
ORGANIZER;CN="Upasana Society NGO":MAILTO:upasanango@gmail.com
END:VEVENT
BEGIN:VEVENT
DTSTART;VALUE=DATE:20180924
DTEND;VALUE=DATE:20180925
DTSTAMP:20260423T164019
CREATED:20230904T194433Z
LAST-MODIFIED:20230904T194433Z
UID:19560-1537747200-1537833599@upasanasociety.org
SUMMARY:Sui Dhaga Aur Kapda: A Heartfelt Gesture - Clothing Drive for Dahanu Tribals
DESCRIPTION:Event Date: September 24\, 2018 \nEvent Description: \nJoin us on September 24\, 2018\, as Upasana Society NGO embarks on a heartwarming journey to spread warmth and kindness to the tribal community of Dahanu village. Under our “Sui Dhaga Aur Kapda” campaign\, we are thrilled to announce the culmination of a remarkable effort in collaboration with compassionate residents from various societies in Mulund\, Andheri\, Kandivali\, Goregaon\, and Borivali. \nEvent Highlights: \n\nClothing Donation: Over 1500 kilograms of clothing items\, lovingly collected by our generous supporters\, will be presented to the tribal families in Dahanu.\nImpactful Outreach: Witness the joy and smiles on the faces of the tribal community as we share the love and care extended by our extended family of donors.\nCommunity Unity: This event exemplifies the power of unity and the incredible difference we can make when we come together for a common cause.\nHeartfelt Moments: Experience touching interactions with the tribal residents\, sharing stories\, and creating lasting memories of this meaningful day.\n\nEvent Venue: \nDahanu Village\, Maharashtra \nEvent Schedule: \n– Date: September 24\, 2018 \nDress Code: \nPlease wear comfortable clothing and shoes suitable for an outdoor community event. \nJoin us in spreading warmth\, love\, and hope to the tribal community of Dahanu as we bring together the collective compassion of Mulund\, Andheri\, Kandivali\, Goregaon\, and Borivali societies in a remarkable act of generosity. \nLet’s make a difference together! Be a part of this inspiring event and leave your mark on the hearts of those in need. Together\, we can create a brighter future for the Dahanu tribals. \nFor more information and inquiries\, please contact: \nMr. Saurabh Kashalkar- +91 9769727057 or Ms. Dipti Kashalkar- +91 7045127770 \nWe look forward to your presence and support at this heartwarming event. Thank you for being the change! \nDiscover more about the “Sui Dhaga Aur Kapda” Campaign by clicking on the link below. \nExplore the Sui Dhaga Aur Kapda Campaign \n 
URL:https://upasanasociety.org/event/sui-dhaga-aur-kapda-a-heartfelt-gesture-clothing-drive-for-dahanu-tribals/
LOCATION:Dahanu\, MAHARASHTRA\, India
CATEGORIES:Sui Dhaga Aur Kapda
ATTACH;FMTTYPE=image/png:https://upasanasociety.org/wp-content/uploads/2023/09/Sui-Dhaga-Aur-Kapda-Campaign-Cloth-collection-banner.png
ORGANIZER;CN="Upasana Society NGO":MAILTO:upasanango@gmail.com
END:VEVENT
BEGIN:VEVENT
DTSTART;VALUE=DATE:20180422
DTEND;VALUE=DATE:20180423
DTSTAMP:20260423T164019
CREATED:20230904T193404Z
LAST-MODIFIED:20230904T193725Z
UID:19558-1524355200-1524441599@upasanasociety.org
SUMMARY:Sui Dhaga Aur Kapda Campaign: Empowering Dahanu Tribals with Sewing Machines
DESCRIPTION:Event Details: \nEvent Date: April 22\, 2018 \nEvent Description: \nJoin Upasana Society NGO on April 22\, 2018\, for a heartwarming event as we extend a helping hand to the tribal communities of Dahanu village under our “Sui Dhaga Aur Kapda Campaign.” We’re excited to announce that we will be donating 8-10 brand new sewing machines to empower the talented women of this village. \nLocation: Dahanu Village\, Maharashtra \nEvent Highlights: \n1. Sewing Machine Donations: Witness the joy of giving as we hand over 8-10 sewing machines to the women of Dahanu. These machines will not only enhance their skillset but also provide them with a means of livelihood. \n2. Empowering Tribals: Learn about the challenges faced by the tribal communities in Dahanu and how Upasana Society is working tirelessly to uplift them through vocational training and support. \n3. Interactive Workshops: Participate in interactive sewing workshops where you can try your hand at sewing and learn about the artistry involved in creating beautiful garments. \n4. Cultural Exchange: Immerse yourself in the rich culture of Dahanu as we showcase tribal music\, dance\, and traditional crafts. \n5. Networking Opportunity: Connect with like-minded individuals and organizations that share our passion for social change and community development. \n6. Refreshments: Enjoy delicious local cuisine and refreshments prepared by the women of Dahanu. \nHow to Participate: \nThis event is open to all who wish to make a difference. Simply mark your calendar for April 22\, 2018\, and join us at the designated location in Dahanu. Your presence and support can help transform lives in this tribal village. \nAbout Upasana Society NGO: \nUpasana Society is committed to making a positive impact on society through various initiatives\, including education\, healthcare\, and skill development. The “Sui Dhaga Aur Kapda Campaign” is one of our many endeavors to empower marginalized communities. \nDon’t miss this opportunity to be part of a meaningful event that promises to bring smiles\, hope\, and a brighter future to the tribal women of Dahanu. Let’s sew the seeds of change together! \nDiscover more about the “Sui Dhaga Aur Kapda” Campaign by clicking on the link below. \nExplore the Sui Dhaga Aur Kapda Campaign
URL:https://upasanasociety.org/event/sui-dhaga-aur-kapda-campaign-empowering-dahanu-tribals-with-sewing-machines/
LOCATION:Dahanu\, MAHARASHTRA\, India
CATEGORIES:Sui Dhaga Aur Kapda
ATTACH;FMTTYPE=image/png:https://upasanasociety.org/wp-content/uploads/2023/09/Sui-Dhaga-Aur-Kapda-Sewing-machine-donation-3.png
ORGANIZER;CN="Upasana Society NGO":MAILTO:upasanango@gmail.com
END:VEVENT
END:VCALENDAR