BEGIN:VCALENDAR
VERSION:2.0
PRODID:-//Upasana Society NGO - ECPv6.15.17//NONSGML v1.0//EN
CALSCALE:GREGORIAN
METHOD:PUBLISH
X-WR-CALNAME:Upasana Society NGO
X-ORIGINAL-URL:https://upasanasociety.org
X-WR-CALDESC:Events for Upasana Society NGO
REFRESH-INTERVAL;VALUE=DURATION:PT1H
X-Robots-Tag:noindex
X-PUBLISHED-TTL:PT1H
BEGIN:VTIMEZONE
TZID:UTC
BEGIN:STANDARD
TZOFFSETFROM:+0000
TZOFFSETTO:+0000
TZNAME:UTC
DTSTART:20220101T000000
END:STANDARD
END:VTIMEZONE
BEGIN:VEVENT
DTSTART;TZID=UTC:20230908T080000
DTEND;TZID=UTC:20231005T170000
DTSTAMP:20260423T161247
CREATED:20230908T143749Z
LAST-MODIFIED:20230927T075143Z
UID:20194-1694160000-1696525200@upasanasociety.org
SUMMARY:#MissionRationDaan: A Call to Nourish Hearts at Freedom Faith De-addiction and Rehabilitation Centre
DESCRIPTION:Overview: \nIn the spirit of compassion and community\, Upasana Society NGO invites you to join us in our latest #MissionRationDaan Campaign. We are extending our support to the individuals of Freedom Faith De-addiction and Rehabilitation Centre\, located in Karav Goan\, Vangani\, Thane. This centre houses over 45 individuals\, the majority of whom are senior citizens. Our aim is to provide them with essential ration items to ensure their well-being and nourishment. \nItems Needed: \nTo make a meaningful impact and help sustain the residents of Freedom Faith\, we are collecting the following essential items: \n\nRice\nToor dal\nCooking oil\nPulses\nSugar\nRed chilli powder\nSalt\nTea\n\nWhy it Matters: \nAt Freedom Faith De-addiction and Rehabilitation Centre\, individuals are on a journey to recovery and healing. Many of them are senior citizens who have battled addiction and are now seeking a better life. Your contribution through #MissionRationDaan will not only nourish their bodies but also uplift their spirits. \nHow You Can Contribute: \n\nDonate Ration Items: You can contribute by donating any of the items listed above and directly deliver it to Upasana Society NGO. Your generosity will directly impact the lives of these individuals\, providing them with the sustenance they need on their path to recovery. Address: G-402\, Pranay Nagar CHS\, Ram Mandir Extn Road\, Vazira Naka\, Borivali (W)\, Mumbai 400091.\nSpread the Word: Help us reach a wider audience by sharing our campaign with your friends\, family\, and colleagues. Together\, we can make a more significant impact.\nMonetary Donations: If you prefer to contribute monetarily\, you can make a donation\, and we will use the funds to purchase the required ration items on your behalf.\n\nA Heartfelt Gesture: \nYour support in #MissionRationDaan is a heartfelt gesture that reflects the spirit of giving and compassion. It’s an opportunity to make a tangible difference in the lives of those working towards recovery and healing at Freedom Faith. \nJoin Us in Nourishing Hearts: \nTogether\, we can make a difference. Join us in this campaign to nourish the hearts and bodies of the residents at Freedom Faith De-addiction and Rehabilitation Centre. Your contribution\, no matter how small\, will have a significant impact on their journey towards a better\, healthier life. \nLet’s come together and be the driving force of change. Join #MissionRationDaan today and make a positive impact on the lives of those in need.
URL:https://upasanasociety.org/event/missionrationdaan-a-call-to-nourish-hearts-at-freedom-faith-de-addiction-and-rehabilitation-centre/
LOCATION:Freedom Faith Vangani Thane
CATEGORIES:Ration Daan
ATTACH;FMTTYPE=image/png:https://upasanasociety.org/wp-content/uploads/2023/09/MissionRationDaan-Banner-3.png
ORGANIZER;CN="Upasana Society NGO":MAILTO:upasanango@gmail.com
END:VEVENT
BEGIN:VEVENT
DTSTART;VALUE=DATE:20230628
DTEND;VALUE=DATE:20230629
DTSTAMP:20260423T161247
CREATED:20230824T195352Z
LAST-MODIFIED:20230824T195352Z
UID:18913-1687910400-1687996799@upasanasociety.org
SUMMARY:RationDaan Campaign for Tribal Community at Sanjay Gandhi National Park
DESCRIPTION:Date: June 28\, 2020\nLocation: Sanjay Gandhi National Park\, Borivali \nJoin us in making a difference! Upasana Society NGO is gearing up for an impactful event as we extend a helping hand to the tribal community in Sanjay Gandhi National Park\, Borivali\, through our RationDaan campaign. \nOn this significant day\, we’re set to donate over 150 ration kits to the tribal families\, providing them with essential supplies they need. These kits are made possible through the generous donations from compassionate individuals who are committed to creating positive change. \nRest assured\, we’re fully committed to maintaining strict COVID-19 protocols to ensure the safety and well-being of everyone involved. Your health is our priority. \nWe extend our heartfelt gratitude to the incredible efforts of Mr. Saurabh Kashalkar and Ms. Dipti Kashalkar\, whose valuable contributions are amplifying the success of this campaign. \nLet’s come together to make a lasting impact on the lives of those in need. Join us on June 28th as we spread hope\, support\, and compassion through RationDaan.
URL:https://upasanasociety.org/event/rationdaan-campaign-for-tribal-community-at-sanjay-gandhi-national-park/
LOCATION:Sanjay Gandhi National Park\, Borivai\, Mumbai
CATEGORIES:Ration Daan
ATTACH;FMTTYPE=image/jpeg:https://upasanasociety.org/wp-content/uploads/2023/08/rationdaan-phase4-sanjay-gandhi-national-park5.jpg
ORGANIZER;CN="Upasana Society NGO":MAILTO:upasanango@gmail.com
END:VEVENT
END:VCALENDAR