BEGIN:VCALENDAR
VERSION:2.0
PRODID:-//Upasana Society NGO - ECPv6.15.17//NONSGML v1.0//EN
CALSCALE:GREGORIAN
METHOD:PUBLISH
X-WR-CALNAME:Upasana Society NGO
X-ORIGINAL-URL:https://upasanasociety.org
X-WR-CALDESC:Events for Upasana Society NGO
REFRESH-INTERVAL;VALUE=DURATION:PT1H
X-Robots-Tag:noindex
X-PUBLISHED-TTL:PT1H
BEGIN:VTIMEZONE
TZID:UTC
BEGIN:STANDARD
TZOFFSETFROM:+0000
TZOFFSETTO:+0000
TZNAME:UTC
DTSTART:20170101T000000
END:STANDARD
END:VTIMEZONE
BEGIN:VEVENT
DTSTART;VALUE=DATE:20230910
DTEND;VALUE=DATE:20230915
DTSTAMP:20260423T161245
CREATED:20230914T193345Z
LAST-MODIFIED:20230914T193345Z
UID:20783-1694304000-1694735999@upasanasociety.org
SUMMARY:Prekking - Asherigad Fort\, Palghar\, 1st July 2018
DESCRIPTION:Are you an adventure enthusiast with a passion for preserving the environment? Upasana Society NGO invites you to join us for an unforgettable experience that combines the love for nature with the thrill of trekking. Get ready to make a difference while having a fantastic time at PREKKING! \nEvent Details: \nAfter the success of our first pilot PREKKING\, we are thrilled to announce our next Prekking adventure scheduled for 1st July 2018. On this exciting journey\, we will be trekking to the majestic Asherigad Fort in Palghar. \nAsherigad Fort\, Palghar: \nAsherigad Fort stands tall at an elevation of approximately 1600 ft above sea level\, offering breathtaking views and a glimpse into history. The difficulty level for this Prekking expedition is classified as Moderate\, making it accessible to both seasoned trekkers and those new to the adventure. The estimated time duration for this Prek is 5 to 6 hours\, promising a day filled with excitement and exploration. \nWhy Join PREKKING? \n\nAdventure Meets Environmental Responsibility: PREKKING is not just about trekking; it’s about trekking with a purpose. By participating\, you actively contribute to the preservation of our natural landscapes.\nCommunity of Like-Minded Individuals: Connect with fellow nature enthusiasts\, forge new friendships\, and share unforgettable experiences.\nExplore the Unexplored: Discover the hidden gems of Asherigad Fort\, Palghar\, and immerse yourself in its rich history and stunning scenery.\n\nEvent Schedule: \n\nDate: 1st July 2018\nTime: 7:30 am\nMeeting Point: Palghar Railway Station\n\nRegistration: \nIndividuals who are passionate about adventure\, environmental conservation\, and creating lasting memories are encouraged to register for this event. Please visit our website [Insert Registration Link] to secure your spot and access additional event details. \nWhat to Bring: \n\nComfortable trekking attire\nSturdy trekking shoes\nA backpack with essentials (water\, snacks\, first-aid kit)\nA sense of adventure and enthusiasm\n\nJoin PREKKING: \nDon’t miss this opportunity to embark on an adventure that leaves a lasting impact on both you and the environment. PREKKING – Asherigad Fort\, Palghar\, is your chance to make a difference while exploring the beauty of nature. We can’t wait to share this incredible journey with you! \nFor more information: CLICK HERE \nLet’s trek\, let’s make memories\, and let’s make a change together!
URL:https://upasanasociety.org/event/prekking-asherigad-fort-palghar-1st-july-2018/
LOCATION:Asherigad Fort\, Palghar
CATEGORIES:Prekking
ATTACH;FMTTYPE=image/jpeg:https://upasanasociety.org/wp-content/uploads/2023/09/Asherigad-prekking-2-july-2018-banner.jpeg
ORGANIZER;CN="Upasana Society NGO":MAILTO:upasanango@gmail.com
END:VEVENT
BEGIN:VEVENT
DTSTART;VALUE=DATE:20180701
DTEND;VALUE=DATE:20180702
DTSTAMP:20260423T161245
CREATED:20230825T193825Z
LAST-MODIFIED:20230825T193825Z
UID:18941-1530403200-1530489599@upasanasociety.org
SUMMARY:Join the Prekking Event at Asherigad Fort\, Palghar
DESCRIPTION:Get ready for an exciting and impactful adventure with Upasana Society NGO. We’re thrilled to announce our upcoming event – the Prekking event at Asherigad Fort\, Palghar on July 1st\, 2018. \nDate: July 1st\, 2018\nLocation: Asherigad Fort\, Palghar \nDuring this unique event\, our dedicated volunteers will embark on a trek to Asherigad Fort\, not only for the breathtaking views but also to make a positive change for the environment. We believe in the power of collective effort and the difference we can make\, one step at a time. \nOur Mission: Tackling Plastic Waste\nAs you trek through the picturesque trail\, you will be equipped with a special cloth bag crafted by underprivileged individuals. This bag will serve as a vessel to collect plastic waste along the way\, contributing to our ongoing efforts to reduce environmental pollution. Your actions during this event will directly impact the local ecosystem and contribute to a cleaner environment. \nHygiene and Sustainability\nWe prioritize hygiene during the event. Each volunteer will receive reusable rubber gloves to ensure cleanliness and safety while collecting plastic waste. Our aim is not only to clean the surroundings but also to set an example of responsible trekking and environmental stewardship. \nBe Part of the Change\nTo ensure the success of this impactful campaign\, a small participation fee will be charged. This fee will contribute to acquiring more cloth bags and covering the logistics required for the event. Every contribution counts and brings us one step closer to a cleaner\, greener world. \nRegister Now\nDon’t miss out on this opportunity to experience the beauty of Asherigad Fort while making a positive impact. Register now and be a part of the Prekking event on July 1st\, 2018. Your presence and participation can create a ripple effect of change for a better tomorrow. \nLet’s take a step forward\, together\, towards a cleaner environment. Join us on this meaningful journey and be the change you wish to see.
URL:https://upasanasociety.org/event/join-the-prekking-event-at-asherigad-fort-palghar/
LOCATION:Asherigad Fort\, Palghar
CATEGORIES:Prekking
ATTACH;FMTTYPE=image/jpeg:https://upasanasociety.org/wp-content/uploads/2023/08/Prekking-Asherigad6.jpeg
ORGANIZER;CN="Upasana Society NGO":MAILTO:upasanango@gmail.com
END:VEVENT
END:VCALENDAR